BEGIN:VCALENDAR
VERSION:2.0
PRODID:-//Saint Louis Science Center - ECPv6.15.20//NONSGML v1.0//EN
CALSCALE:GREGORIAN
METHOD:PUBLISH
X-ORIGINAL-URL:https://www.slsc.org
X-WR-CALDESC:Events for Saint Louis Science Center
REFRESH-INTERVAL;VALUE=DURATION:PT1H
X-Robots-Tag:noindex
X-PUBLISHED-TTL:PT1H
BEGIN:VTIMEZONE
TZID:America/Chicago
BEGIN:DAYLIGHT
TZOFFSETFROM:-0600
TZOFFSETTO:-0500
TZNAME:CDT
DTSTART:20250309T080000
END:DAYLIGHT
BEGIN:STANDARD
TZOFFSETFROM:-0500
TZOFFSETTO:-0600
TZNAME:CST
DTSTART:20251102T070000
END:STANDARD
BEGIN:DAYLIGHT
TZOFFSETFROM:-0600
TZOFFSETTO:-0500
TZNAME:CDT
DTSTART:20260308T080000
END:DAYLIGHT
BEGIN:STANDARD
TZOFFSETFROM:-0500
TZOFFSETTO:-0600
TZNAME:CST
DTSTART:20261101T070000
END:STANDARD
BEGIN:DAYLIGHT
TZOFFSETFROM:-0600
TZOFFSETTO:-0500
TZNAME:CDT
DTSTART:20270314T080000
END:DAYLIGHT
BEGIN:STANDARD
TZOFFSETFROM:-0500
TZOFFSETTO:-0600
TZNAME:CST
DTSTART:20271107T070000
END:STANDARD
END:VTIMEZONE
BEGIN:VEVENT
DTSTART;TZID=America/Chicago:20260501T140000
DTEND;TZID=America/Chicago:20260501T150000
DTSTAMP:20260420T215510
CREATED:20260420T152448Z
LAST-MODIFIED:20260420T152448Z
UID:10010142-1777644000-1777647600@www.slsc.org
SUMMARY:Missouri History Museum's Route 66 Festival
DESCRIPTION:Celebrate the 100th anniversary of Route 66 at the Missouri History Museum during this four-day festival exploring the Mother Road’s stunning natural scenery\, quirky roadside attractions\, its complex history\, and its impacts on communities across the St. Louis region. Enjoy live music\, classic car displays\, film screenings\, a Route 66 neon sign and memorabilia display\, family activities\, and more! \nThe Route 66 Festival begins Thursday April 30 and runs through Sunday May 3. \nOn Friday\, May 1\, the Saint Louis Science Center will be in attendance!  At 2:00 PM in the Lower Level of the Lee Auditorium\, Neville Crenshaw will help present The Evolution of the Road Trip! \nMHS Curator Sharon Smith will lead a conversation with Neville\, Megan Hegger of Ameren Missouri’s Transportation Electrification team\, and Carly McKinnis of AAA\, exploring how the road trip has evolved over time\, shaped by changing technology\, culture\, and ideas. From electric vehicles and van life to working remote while traveling and algorithm-driven itineraries\, hear how new generations are navigating the open road and learn about local resources that support the freedom and adventure behind every journey. \nLocation:\nMissouri History Museum\n \nDates:\nApril 30 through May 3 \nNOTE: This event does NOT take place at the Saint Louis Science Center. \nLearn More about the Route 66 Festival \n  \nBe sure to check out all our other community events
URL:https://www.slsc.org/event/missouri-history-museums-route-66-festival/
CATEGORIES:External Events
ATTACH;FMTTYPE=image/webp:https://www.slsc.org/wp-content/uploads/2026/04/Route-66-Festival-1431x713-1.webp
END:VEVENT
END:VCALENDAR